BEGIN:VCALENDAR
METHOD:PUBLISH
VERSION:2.0
PRODID:-//Eventilla iCal Syndication//NONSGML Liana//EN
BEGIN:VEVENT
UID:nyoBv@eventilla.com
DTSTAMP:20201104T220000Z
DTSTART:20201104T220000Z
DTEND:20201106T215900Z
SUMMARY:GPD SAME 2020 Abstract Submission form
DESCRIPTION:GPD SAME 2020 Abstract Submission Platform\nWelcome to the abstract submission platform for GPD South America 2020.\n\nTo submit\, please go to the 'Abstract submission' part below. On the right hand side under the 'Amount' button\, click and select the number of abstracts you would like to submit from the drop down menu.\nThen click the 'REGISTER' button below and fill in the required fields\, then click 'Confirm your registration' button to submit your abstract\n\nBefore beginning your abstract submission\, please prepare the following:\n\nThe abstract of the paper(s) you are submitting (max. 150 words / abstract\, 10 words / title)\nThe personal introduction of the speaker (max. 70 words / introduction)\nSpeaker’s photo (Recommended size is 768 x 1024 pixels in the following formats .JPG or .PNG)\n\nIf you want to read more about how to create the material you need to submit please visit our Speaker Guidelines page.\nThe organizers have the right to publish the abstracts together with the speaker bio and photo for different purposes of the conference. The organizing committee reserves all rights.\nSpeaking Fee\nTo see the fees\, go to: Speaker sponsorship opportunities\nSpeaking fees are charged for each presentation given in the conference. Please contact Brown Onduso via brown.onduso@gpd.fi or +358407739313
LOCATION:Sao Paulo\, Brazil
URL:http://events.gpd.fi/event/nyoBv
END:VEVENT
END:VCALENDAR
